BEGIN:VCALENDAR
VERSION:2.0
PRODID:https://merete.de/en/
BEGIN:VEVENT
UID:69e8f0e6093be
DTSTART:20261104T230001Z
SEQUENCE:0
TRANSP:OPAQUE
DTEND:20261104T230001Z
LOCATION:Zürich\, Switzerland 
SUMMARY:AE Master Course: Hip
CLASS:PUBLIC
DTSTAMP:20260422T160142Z
END:VEVENT
END:VCALENDAR