BEGIN:VCALENDAR
VERSION:2.0
PRODID:https://merete.de/en/
BEGIN:VEVENT
UID:69e8f328bf719
DTSTART:20260923T220001Z
SEQUENCE:0
TRANSP:OPAQUE
DTEND:20260923T220001Z
LOCATION:Wien\, Austria Hotel Meliá Vienna<br />\nDC Tower 1<br />\nDonau-
 City-Straße 7<br />\n1220 Wien
SUMMARY:AE-Masterkurs Hüfte / Masterclass Hip
CLASS:PUBLIC
DTSTAMP:20260422T161120Z
END:VEVENT
END:VCALENDAR