BEGIN:VCALENDAR
VERSION:2.0
PRODID:https://merete.de/en/
BEGIN:VEVENT
UID:69e8f116120fa
DTSTART:20261110T230001Z
SEQUENCE:0
TRANSP:OPAQUE
DTEND:20261110T230001Z
LOCATION:Copenhagen\, Denmark 
SUMMARY:NOF Congress 2026
CLASS:PUBLIC
DTSTAMP:20260422T160230Z
END:VEVENT
END:VCALENDAR