BEGIN:VCALENDAR
VERSION:2.0
PRODID:https://merete.de
BEGIN:VEVENT
UID:69ecac9fb60b6
DTSTART:20260916T220001Z
SEQUENCE:0
TRANSP:OPAQUE
DTEND:20260916T220001Z
LOCATION:Köln KOMED · Haus 6<br />\nZentrum für Veranstaltungen im Media
 park Köln<br />\nIm Mediapark 6<br />\n50670 Köln
SUMMARY:AE-Masterkurs Hüfte
CLASS:PUBLIC
DTSTAMP:20260425T115927Z
END:VEVENT
END:VCALENDAR