BEGIN:VCALENDAR
VERSION:2.0
PRODID:https://merete.de
BEGIN:VEVENT
UID:69eca9c3ebfe2
DTSTART:20261104T230001Z
SEQUENCE:0
TRANSP:OPAQUE
DTEND:20261104T230001Z
LOCATION:Zürich\, Schweiz Schulthess Klinik<br />\nLengghalde 2<br />\n800
 8 Zürich
SUMMARY:AE-Masterkurs Hüfte
CLASS:PUBLIC
DTSTAMP:20260425T114715Z
END:VEVENT
END:VCALENDAR