BEGIN:VCALENDAR
VERSION:2.0
PRODID:https://merete.de
BEGIN:VEVENT
UID:69eca8d49d3b7
DTSTART:20261008T220001Z
SEQUENCE:0
TRANSP:OPAQUE
DTEND:20261008T220001Z
LOCATION:München Holiday Inn München Westpark<br />\nAlbert-Roßhaupter-S
 traße 45<br />\n81369 München
SUMMARY:AE-Masterkurs Revisionseingriffe in der Hüftendoprothetik
CLASS:PUBLIC
DTSTAMP:20260425T114316Z
END:VEVENT
END:VCALENDAR